BEGIN:VCALENDAR
VERSION:2.0
PRODID:-//www.eventmaker.at//ICS-Exporter//de
BEGIN:VEVENT
UID:eventmaker.at39887
URL;VALUE=URI:https://veranstaltungen.oesterreichsenergie.at/schutztechnik-7/
SUMMARY;ENCODING=quoted-printable:Oesterreichs Energie Akademie: Schutztechnik
DESCRIPTION;CHARSET=UTF-8:
LOCATION;ENCODING=quoted-printable:Waldhof Fuschlsee Resort | Seestraße 30 | 5330 Fuschl am See | Österreich
DTSTART:20260505T090000Z
DTEND:20260507T105000Z
END:VEVENT
END:VCALENDAR
