BEGIN:VCALENDAR
VERSION:2.0
PRODID:-//www.eventmaker.at//ICS-Exporter//de
BEGIN:VEVENT
UID:eventmaker.at40999
URL;VALUE=URI:https://veranstaltungen.oesterreichsenergie.at/fortbildungsseminar_-_arbeitnehmerinnenschutz_im_energieunternehmen-4/
SUMMARY;ENCODING=quoted-printable:Oesterreichs Energie Akademie: Fortbildungsseminar - Arbeitnehmer:innenschutz im Energieunternehmen
DESCRIPTION;CHARSET=UTF-8:
LOCATION;ENCODING=quoted-printable:Waldhof Fuschlsee Resort | Seestraße 30 | 5330 Fuschl am See | Österreich
DTSTART:20261006T070000Z
DTEND:20261007T140000Z
END:VEVENT
END:VCALENDAR
