BEGIN:VCALENDAR
VERSION:2.0
PRODID:-//www.eventmaker.at//ICS-Exporter//de
BEGIN:VEVENT
UID:eventmaker.at41278
URL;VALUE=URI:https://veranstaltungen.oesterreichsenergie.at/netzrueckwirkungen-3/
SUMMARY;ENCODING=quoted-printable:Oesterreichs Energie Akademie: Netzrückwirkungen
DESCRIPTION;CHARSET=UTF-8:
LOCATION;ENCODING=quoted-printable:Wyndham Grand Salzburg Conference Centre | Fanny-von-Lehnert-Straße 7 | 5020 Salzburg | Österreich | Raum "Wolfgangsee" im Erdgeschoß
DTSTART:20260505T073000Z
DTEND:20260507T133000Z
END:VEVENT
END:VCALENDAR
