BEGIN:VCALENDAR
VERSION:2.0
PRODID:-//www.eventmaker.at//ICS-Exporter//de
BEGIN:VEVENT
UID:eventmaker.at41292
URL;VALUE=URI:https://veranstaltungen.oesterreichsenergie.at/kuenstliche_intelligenz_in_der_energiewirtschaft___technik_ethik_und_recht_im_ueberblick/
SUMMARY;ENCODING=quoted-printable:Oesterreichs Energie Akademie: Künstliche Intelligenz in der Energiewirtschaft – Technik, Ethik und Recht im Überblick
DESCRIPTION;CHARSET=UTF-8:
LOCATION;ENCODING=quoted-printable:DoubleTree by Hilton Vienna Schönbrunn | Schlossallee 8 | 1140 Wien | Österreich
DTSTART:20260310T083000Z
DTEND:20260310T153000Z
END:VEVENT
END:VCALENDAR
