BEGIN:VCALENDAR
VERSION:2.0
PRODID:-//www.eventmaker.at//ICS-Exporter//de
BEGIN:VEVENT
UID:eventmaker.at41297
URL;VALUE=URI:https://veranstaltungen.oesterreichsenergie.at/versorgungssicherheit_unter_geaenderten_rahmenbedingungen/
SUMMARY;ENCODING=quoted-printable:Oesterreichs Energie Akademie: Versorgungssicherheit unter geänderten Rahmenbedingungen
DESCRIPTION;CHARSET=UTF-8:
LOCATION;ENCODING=quoted-printable:ARCOTEL Kaiserwasser Wien | Wagramer Straße 8 | 1220 Wien | Österreich
DTSTART:20261104T083000Z
DTEND:20261105T143000Z
END:VEVENT
END:VCALENDAR
