BEGIN:VCALENDAR
VERSION:2.0
PRODID:-//www.eventmaker.at//ICS-Exporter//de
BEGIN:VEVENT
UID:eventmaker.at41320
URL;VALUE=URI:https://veranstaltungen.oesterreichsenergie.at/von_netzrueckwirkungen_zur_emv-2/
SUMMARY;ENCODING=quoted-printable:Oesterreichs Energie Akademie: Von Netzrückwirkungen zur EMV
DESCRIPTION;CHARSET=UTF-8:
LOCATION;ENCODING=quoted-printable:DoubleTree by Hilton Vienna Schönbrunn | Schlossallee 8 | 1140 Wien | Österreich
DTSTART:20260602T063000Z
DTEND:20260602T143000Z
END:VEVENT
END:VCALENDAR
