BEGIN:VCALENDAR
VERSION:2.0
PRODID:-//www.eventmaker.at//ICS-Exporter//de
BEGIN:VEVENT
UID:eventmaker.at41352
URL;VALUE=URI:https://veranstaltungen.oesterreichsenergie.at/innovations-retreat_2026_-_praktische_ki-anwendung_im_fachbereich/
SUMMARY;ENCODING=quoted-printable:Oesterreichs Energie Akademie: Innovations-Retreat 2026 - Praktische KI-Anwendung im Fachbereich
DESCRIPTION;CHARSET=UTF-8:
LOCATION;ENCODING=quoted-printable:Hotel Ammerhauser | Dorfstraße 1 | 5102 Anthering bei Salzburg | Österreich
DTSTART:20260930T100000Z
DTEND:20261001T103000Z
END:VEVENT
END:VCALENDAR
