BEGIN:VCALENDAR
VERSION:2.0
PRODID:-//www.eventmaker.at//ICS-Exporter//de
BEGIN:VEVENT
UID:eventmaker.at41417
URL;VALUE=URI:https://veranstaltungen.oesterreichsenergie.at/ki_in_der_industrie_zukunft_gestalten/
SUMMARY;ENCODING=quoted-printable:Oesterreichs Energie Akademie: Innovationsreise: KI in der Industrie - Zukunft gestalten
DESCRIPTION;CHARSET=UTF-8:
LOCATION;ENCODING=quoted-printable:München | Deutschland
DTSTART:20260618T100000Z
DTEND:20260619T120000Z
END:VEVENT
END:VCALENDAR
