BEGIN:VCALENDAR
VERSION:2.0
PRODID:-//www.eventmaker.at//ICS-Exporter//de
BEGIN:VEVENT
UID:eventmaker.at41431
URL;VALUE=URI:https://veranstaltungen.oesterreichsenergie.at/brussels_energy_live_-_institutionen__und_entscheidungsfindung_in_der_eu-2/
SUMMARY;ENCODING=quoted-printable:Oesterreichs Energie Akademie: 'Brussels Energy live' - Institutionen und Entscheidungsfindung in der EU
DESCRIPTION;CHARSET=UTF-8:
LOCATION;ENCODING=quoted-printable:Oesterreichs Energie | Rue de la Loi 221 | 1040 Brüssel | Belgien
DTSTART:20261130T090000Z
DTEND:20261201T140000Z
END:VEVENT
END:VCALENDAR
